BEGIN:VCALENDAR
VERSION:2.0
PRODID:-//Squarespace Inc/Squarespace 6//v6//EN
BEGIN:VEVENT
UID:5dd618550e89843019e43bf1@squarespace.com
DTSTAMP:20191121T223936Z
DTSTART:20200507T070000Z
DTEND:20200507T100000Z
SUMMARY:Women's Iftar
GEO:-37.811009;144.96588
LOCATION:QVWC\, Queen Victoria Women's Centre\, Melbourne\, Australia
END:VEVENT
END:VCALENDAR
