BEGIN:VCALENDAR
VERSION:2.0
PRODID:-//Squarespace Inc/Squarespace 6//v6//EN
BEGIN:VEVENT
UID:5d75f4c79ed26b1b13e9403d@squarespace.com
DTSTAMP:20191113T053804Z
DTSTART:20191205T073000Z
DTEND:20191205T093000Z
SUMMARY:Saga Sisterhood
GEO:-37.810882;144.965765
LOCATION:Queen Victoria Women's Centre: Victoria Room\, 210 Lonsdale Street
 \, Melbourne\, VIC\, 3000\, Australia
END:VEVENT
END:VCALENDAR
