BEGIN:VCALENDAR
VERSION:2.0
PRODID:-//Squarespace Inc/Squarespace 6//v6//EN
BEGIN:VEVENT
UID:5e4f0af8d52fd86f8409c5a5@squarespace.com
DTSTAMP:20200220T224237Z
DTSTART:20200305T071000Z
DTEND:20200305T073000Z
SUMMARY:Singing it for IWD: Sue Johnson's Pagan Angels &amp\; Trolls
END:VEVENT
END:VCALENDAR
