BEGIN:VCALENDAR
VERSION:2.0
PRODID:-//Squarespace Inc/Squarespace 6//v6//EN
BEGIN:VEVENT
UID:5e4f094694ea621b608ef381@squarespace.com
DTSTAMP:20200220T223633Z
DTSTART:20200304T065000Z
DTEND:20200304T071000Z
SUMMARY:Singing it for IWD:  Heidelberg Mamas
END:VEVENT
END:VCALENDAR
