BEGIN:VCALENDAR
VERSION:2.0
PRODID:-//Squarespace Inc/Squarespace 6//v6//EN
BEGIN:VEVENT
UID:5dd7124ef43c174dfb0bf579@squarespace.com
DTSTAMP:20191121T231145Z
DTSTART:20200304T073000Z
DTEND:20200304T083000Z
SUMMARY:Sanam Maher in conversation with Dr Jessamy Gleeson
END:VEVENT
END:VCALENDAR
