BEGIN:VCALENDAR
VERSION:2.0
PRODID:-//Squarespace Inc/Squarespace 6//v6//EN
BEGIN:VEVENT
UID:5dba4177c62e294411808e2c@squarespace.com
DTSTAMP:20191121T031403Z
DTSTART:20191202T070000Z
DTEND:20191202T090000Z
SUMMARY:Saga Sisterhood - FREE WORKSHOP - join the sisterhood!! 
END:VEVENT
END:VCALENDAR
