BEGIN:VCALENDAR
VERSION:2.0
PRODID:-//Squarespace Inc/Squarespace 6//v6//EN
BEGIN:VEVENT
UID:5e2f95006466c247505d3b38@squarespace.com
DTSTAMP:20200129T235429Z
DTSTART:20200401T070000Z
DTEND:20200401T091500Z
SUMMARY:Melbourne International Comedy Festival &amp\; QVWC Night Out! 
GEO:-37.810882;144.965765
LOCATION:Queen Victoria Womens Centre\, 210 Lonsdale Street\, Melbourne\, V
 IC\, 3000\, Australia
END:VEVENT
END:VCALENDAR
