BEGIN:VCALENDAR
VERSION:2.0
PRODID:-//Squarespace Inc/Squarespace 6//v6//EN
BEGIN:VEVENT
UID:5e2f9934a261215a150119e2@squarespace.com
DTSTAMP:20200128T030856Z
DTSTART:20200416T033000Z
DTEND:20200416T053000Z
SUMMARY:Melbourne International Comedy Festival &amp\; QVWC Afternoon In!
GEO:-37.810882;144.965765
LOCATION:Queen Victoria Womens Centre\, 210 Lonsdale Street\, Melbourne\, V
 IC\, 3000\, Australia
END:VEVENT
END:VCALENDAR
