BEGIN:VCALENDAR
VERSION:2.0
PRODID:-//Squarespace Inc/Squarespace 6//v6//EN
BEGIN:VEVENT
UID:5e4b556874f9be5e21f23abb@squarespace.com
DTSTAMP:20200220T223839Z
DTSTART:20200304T071000Z
DTEND:20200304T073000Z
SUMMARY:Singing It for IWD: Brunswick Women’s Choir
END:VEVENT
END:VCALENDAR
