BEGIN:VCALENDAR
VERSION:2.0
PRODID:-//Squarespace Inc/Squarespace 6//v6//EN
BEGIN:VEVENT
UID:5e44d48984e5fe5d9c72c1ee@squarespace.com
DTSTAMP:20200213T223804Z
DTSTART:20200301T220000Z
DTEND:20200308T060000Z
SUMMARY:International Women's Day Events! Celebrating all week!
END:VEVENT
END:VCALENDAR
