BEGIN:VCALENDAR
VERSION:2.0
PRODID:-//Squarespace Inc/Squarespace 6//v6//EN
BEGIN:VEVENT
UID:5d75e8fd9481dd1cce963ecd@squarespace.com
DTSTAMP:20191001T013859Z
DTSTART:20191015T070000Z
DTEND:20191015T090000Z
SUMMARY:International Day of Rural Women
GEO:-37.294622;143.785645
LOCATION:Clunes Town Hall\, 98 Bailey Street\, Clunes\, VIC\, 3370\, Austra
 lia
END:VEVENT
END:VCALENDAR
