BEGIN:VCALENDAR
VERSION:2.0
PRODID:-//Squarespace Inc/Squarespace 6//v6//EN
BEGIN:VEVENT
UID:5d75eb212b13b44cdf872cbc@squarespace.com
DTSTAMP:20190930T004057Z
DTSTART:20191201T220000Z
DTEND:20191222T060000Z
SUMMARY:Festive Skies - installation by artist Georgina Humphries
GEO:-37.810882;144.965765
LOCATION:Queen Victoria Women's Centre: Exhibition Space\, 210 Lonsdale Str
 eet\, Melbourne\, VIC\, 3000\, Australia
END:VEVENT
END:VCALENDAR
