BEGIN:VCALENDAR
VERSION:2.0
PRODID:-//Squarespace Inc/Squarespace 6//v6//EN
BEGIN:VEVENT
UID:5e4f0c7ad52fd86f840a174e@squarespace.com
DTSTAMP:20200220T224935Z
DTSTART:20200325T230000Z
DTEND:20200419T010000Z
SUMMARY:Exhibition: the mother of all questions
END:VEVENT
END:VCALENDAR
