BEGIN:VCALENDAR
VERSION:2.0
PRODID:-//Squarespace Inc/Squarespace 6//v6//EN
BEGIN:VEVENT
UID:5d75ea3fd3e1956348c3d92a@squarespace.com
DTSTAMP:20191113T070432Z
DTSTART:20191121T063000Z
DTEND:20191121T080000Z
SUMMARY:2020 Program launch
GEO:-37.810882;144.965765
LOCATION:Queen Victoria Women's Centre: Exhibition Space\, 210 Lonsdale Str
 eet\, Melbourne\, VIC\, 3000\, Australia
END:VEVENT
END:VCALENDAR
